BEGIN:VCALENDAR
VERSION:2.0
PRODID:SchoolNow
CALSCALE:GREGORIAN
BEGIN:VEVENT
UID:9886114e-a90e-11f0-90f3-029757dfec8d
DTSTAMP:20251014T150100Z
SUMMARY:This is a test
URL;VALUE=URI:http://htrstitans.fallhaven.org/calendar/8721458/this-is-a-te
 st
DTSTART:20251014T150000Z
DTEND:20251014T160000Z
END:VEVENT
END:VCALENDAR
