BEGIN:VCALENDAR
VERSION:2.0
PRODID:SchoolNow
CALSCALE:GREGORIAN
BEGIN:VEVENT
UID:e4bc211a-d6c3-11f0-b7d4-0e805255c06f
DTSTAMP:20251211T190220Z
SUMMARY:An event with an emoji in the event details
URL;VALUE=URI:http://htrstitans.fallhaven.org/calendar/8822170/an-event-wit
 h-an-emoji-in-the-event-details
DTSTART:20251211T190100Z
DTEND:20251211T200100Z
END:VEVENT
END:VCALENDAR
