BEGIN:VCALENDAR
VERSION:2.0
PRODID:SchoolNow
CALSCALE:GREGORIAN
BEGIN:VEVENT
UID:2aa09c9c-500f-11f0-9b93-0afff44fcbc3
DTSTAMP:20260420T205037Z
SUMMARY:Pioneer Conference Art Exhibit
LOCATION:Johnson-Brock High School
URL;VALUE=URI:http://htrstitans.fallhaven.org/high-school/calendar/8342992/
 pioneer-conference-art-exhibit
DTSTART;VALUE=DATE:20260205
DTEND;VALUE=DATE:20260206
END:VEVENT
END:VCALENDAR
