BEGIN:VCALENDAR
VERSION:2.0
PRODID:SchoolNow
CALSCALE:GREGORIAN
BEGIN:VEVENT
UID:2aa0a28c-500f-11f0-8410-0afff44fcbc3
DTSTAMP:20260420T205037Z
SUMMARY:MUDECAS All-Star Basketball Game
LOCATION:Diller-Odell High School
URL;VALUE=URI:http://htrstitans.fallhaven.org/high-school/calendar/8343004/
 mudecas-all-star-basketball-game
DTSTART:20260321T213000Z
DTEND:20260322T010000Z
END:VEVENT
END:VCALENDAR
