BEGIN:VCALENDAR
VERSION:2.0
PRODID:SchoolNow
CALSCALE:GREGORIAN
BEGIN:VEVENT
UID:2aa0a372-500f-11f0-882f-0afff44fcbc3
DTSTAMP:20260420T205037Z
SUMMARY:JH Pioneer Conference Quiz Bowl
LOCATION:FCSH
URL;VALUE=URI:http://htrstitans.fallhaven.org/high-school/calendar/8343006/
 jh-pioneer-conference-quiz-bowl
DTSTART:20260323T180000Z
DTEND:20260323T230000Z
END:VEVENT
END:VCALENDAR
