BEGIN:VCALENDAR
VERSION:2.0
PRODID:SchoolNow
CALSCALE:GREGORIAN
BEGIN:VEVENT
UID:2aa0a458-500f-11f0-9b58-0afff44fcbc3
DTSTAMP:20260420T205037Z
SUMMARY:MUDECAS Music
LOCATION:Johnson-Brock High School
URL;VALUE=URI:http://htrstitans.fallhaven.org/high-school/calendar/8343008/
 mudecas-music
DTSTART;VALUE=DATE:20260330
DTEND;VALUE=DATE:20260331
END:VEVENT
END:VCALENDAR
