BEGIN:VCALENDAR
VERSION:2.0
PRODID:SchoolNow
CALSCALE:GREGORIAN
BEGIN:VEVENT
UID:2aa0a53e-500f-11f0-849f-0afff44fcbc3
DTSTAMP:20260420T205037Z
SUMMARY:ESU Jr. High Quiz Bowl
LOCATION:Peru State College
URL;VALUE=URI:http://htrstitans.fallhaven.org/high-school/calendar/8343010/
 esu-jr-high-quiz-bowl
DTSTART:20260408T140000Z
DTEND:20260408T203000Z
END:VEVENT
END:VCALENDAR
