BEGIN:VCALENDAR
VERSION:2.0
PRODID:SchoolNow
CALSCALE:GREGORIAN
BEGIN:VEVENT
UID:2aa0a7f0-500f-11f0-8dc5-0afff44fcbc3
DTSTAMP:20260420T205037Z
SUMMARY:Prom
LOCATION:Humboldt
URL;VALUE=URI:http://htrstitans.fallhaven.org/high-school/calendar/8343015/
 prom
DTSTART;VALUE=DATE:20260418
DTEND;VALUE=DATE:20260419
END:VEVENT
END:VCALENDAR
