BEGIN:VCALENDAR
VERSION:2.0
PRODID:SchoolNow
CALSCALE:GREGORIAN
BEGIN:VEVENT
UID:2aa0a8f4-500f-11f0-8029-0afff44fcbc3
DTSTAMP:20260420T205037Z
SUMMARY:District Music Contest
LOCATION:Johnson County Central
URL;VALUE=URI:http://htrstitans.fallhaven.org/high-school/calendar/8343017/
 district-music-contest
DTSTART;VALUE=DATE:20260420
DTEND;VALUE=DATE:20260421
END:VEVENT
END:VCALENDAR
