BEGIN:VCALENDAR
VERSION:2.0
PRODID:SchoolNow
CALSCALE:GREGORIAN
BEGIN:VEVENT
UID:0c044f74-52a6-11f0-9544-0e72d387990f
DTSTAMP:20260420T205037Z
SUMMARY:Wrestling:  Girls Var Invitational vs Multiple Schools vs. Louisvil
 le (Away)
LOCATION:Louisville High School
URL;VALUE=URI:http://htrstitans.fallhaven.org/high-school/calendar/8356917/
 wrestling-girls-var-invitational-vs-multiple-schools-vs-louisville-away
DTSTART:20260123T160000Z
DTEND:20260124T010000Z
END:VEVENT
END:VCALENDAR
