BEGIN:VCALENDAR
VERSION:2.0
PRODID:SchoolNow
CALSCALE:GREGORIAN
BEGIN:VEVENT
UID:0c045c8a-52a6-11f0-b528-0e72d387990f
DTSTAMP:20260420T205037Z
SUMMARY:Basketball:  Boys Varsity Pioneer Conference Tournament vs TBA  vs.
   TBA (Away)
LOCATION:TBA
URL;VALUE=URI:http://htrstitans.fallhaven.org/high-school/calendar/8356928/
 basketball-boys-varsity-pioneer-conference-tournament-vs-tba-vs-tba-away
DTSTART;VALUE=DATE:20260202
DTEND;VALUE=DATE:20260203
END:VEVENT
END:VCALENDAR
