BEGIN:VCALENDAR
VERSION:2.0
PRODID:SchoolNow
CALSCALE:GREGORIAN
BEGIN:VEVENT
UID:0c0465cc-52a6-11f0-9d62-0e72d387990f
DTSTAMP:20260420T205037Z
SUMMARY:Basketball:  Girls Varsity Pioneer Conference Tournament vs TBA  vs
 .  TBA (Away)
LOCATION:TBA
URL;VALUE=URI:http://htrstitans.fallhaven.org/high-school/calendar/8356932/
 basketball-girls-varsity-pioneer-conference-tournament-vs-tba-vs-tba-away
DTSTART;VALUE=DATE:20260203
DTEND;VALUE=DATE:20260204
END:VEVENT
END:VCALENDAR
