BEGIN:VCALENDAR
VERSION:2.0
PRODID:SchoolNow
CALSCALE:GREGORIAN
BEGIN:VEVENT
UID:0c046d60-52a6-11f0-ae13-0e72d387990f
DTSTAMP:20260420T205037Z
SUMMARY:Basketball:  Girls Varsity Pioneer Conference vs TBA  vs.  TBA (Awa
 y)
LOCATION:TBA
URL;VALUE=URI:http://htrstitans.fallhaven.org/high-school/calendar/8356940/
 basketball-girls-varsity-pioneer-conference-vs-tba-vs-tba-away
DTSTART;VALUE=DATE:20260207
DTEND;VALUE=DATE:20260208
END:VEVENT
END:VCALENDAR
