BEGIN:VCALENDAR
VERSION:2.0
PRODID:SchoolNow
CALSCALE:GREGORIAN
BEGIN:VEVENT
UID:0c0477d8-52a6-11f0-9a94-0e72d387990f
DTSTAMP:20260420T205037Z
SUMMARY:Wrestling:  Boys Var District Meet vs Shelby-Rising City (Away)
LOCATION:TBA
URL;VALUE=URI:http://htrstitans.fallhaven.org/high-school/calendar/8356951/
 wrestling-boys-var-district-meet-vs-shelby-rising-city-away
DTSTART;VALUE=DATE:20260214
DTEND;VALUE=DATE:20260215
END:VEVENT
END:VCALENDAR
