BEGIN:VCALENDAR
VERSION:2.0
PRODID:SchoolNow
CALSCALE:GREGORIAN
BEGIN:VEVENT
UID:0c047dd2-52a6-11f0-a200-0e72d387990f
DTSTAMP:20260420T205037Z
SUMMARY:Wrestling:  Boys Var State vs TBA  vs.  TBA (Away)
LOCATION:CHI Health Center - Omaha\, NE
URL;VALUE=URI:http://htrstitans.fallhaven.org/high-school/calendar/8356958/
 wrestling-boys-var-state-vs-tba-vs-tba-away
DTSTART;VALUE=DATE:20260221
DTEND;VALUE=DATE:20260222
END:VEVENT
END:VCALENDAR
