BEGIN:VCALENDAR
VERSION:2.0
PRODID:SchoolNow
CALSCALE:GREGORIAN
BEGIN:VEVENT
UID:0c048534-52a6-11f0-816b-0e72d387990f
DTSTAMP:20260420T205037Z
SUMMARY:Baseball:  Varsity Game vs Beatrice  vs.  Auburn/HTRS (Away)
LOCATION:Christenson Field
URL;VALUE=URI:http://htrstitans.fallhaven.org/high-school/calendar/8356966/
 baseball-varsity-game-vs-beatrice-vs-auburn-htrs-away
DTSTART:20260319T213000Z
DTEND:20260319T233000Z
END:VEVENT
END:VCALENDAR
