BEGIN:VCALENDAR
VERSION:2.0
PRODID:SchoolNow
CALSCALE:GREGORIAN
BEGIN:VEVENT
UID:0c048aca-52a6-11f0-a4d1-0e72d387990f
DTSTAMP:20260420T205037Z
SUMMARY:Baseball:  Varsity Game vs Nodaway-Holt  vs.  Auburn/HTRS (Away)
LOCATION:Nodaway-Holt High School
URL;VALUE=URI:http://htrstitans.fallhaven.org/high-school/calendar/8356972/
 baseball-varsity-game-vs-nodaway-holt-vs-auburn-htrs-away
DTSTART:20260326T220000Z
DTEND:20260327T000000Z
END:VEVENT
END:VCALENDAR
