BEGIN:VCALENDAR
VERSION:2.0
PRODID:SchoolNow
CALSCALE:GREGORIAN
BEGIN:VEVENT
UID:0c049b3c-52a6-11f0-9a80-0e72d387990f
DTSTAMP:20260420T205037Z
SUMMARY:Baseball:  Varsity Game vs Auburn/HTRS  vs.  Ralston High School (H
 ome)
LOCATION:Tushla Field - Auburn\, NE
URL;VALUE=URI:http://htrstitans.fallhaven.org/high-school/calendar/8356975/
 baseball-varsity-game-vs-auburn-htrs-vs-ralston-high-school-home
DTSTART:20260328T160000Z
DTEND:20260329T060000Z
END:VEVENT
END:VCALENDAR
