BEGIN:VCALENDAR
VERSION:2.0
PRODID:SchoolNow
CALSCALE:GREGORIAN
BEGIN:VEVENT
UID:0c049e3e-52a6-11f0-82e1-0e72d387990f
DTSTAMP:20260420T205037Z
SUMMARY:Baseball:  Varsity Game vs Auburn/HTRS  vs.  Nebraska City (Home)
LOCATION:Tushla Field - Auburn\, NE
URL;VALUE=URI:http://htrstitans.fallhaven.org/high-school/calendar/8356976/
 baseball-varsity-game-vs-auburn-htrs-vs-nebraska-city-home
DTSTART:20260330T213000Z
DTEND:20260330T233000Z
END:VEVENT
END:VCALENDAR
