BEGIN:VCALENDAR
VERSION:2.0
PRODID:SchoolNow
CALSCALE:GREGORIAN
BEGIN:VEVENT
UID:0c04a5a0-52a6-11f0-9bdf-0e72d387990f
DTSTAMP:20260420T205037Z
SUMMARY:Baseball:  Varsity Game vs Plattsmouth  vs.  Auburn/HTRS (Away)
LOCATION:Plattsmouth High School
URL;VALUE=URI:http://htrstitans.fallhaven.org/high-school/calendar/8356981/
 baseball-varsity-game-vs-plattsmouth-vs-auburn-htrs-away
DTSTART:20260402T213000Z
DTEND:20260402T233000Z
END:VEVENT
END:VCALENDAR
