BEGIN:VCALENDAR
VERSION:2.0
PRODID:SchoolNow
CALSCALE:GREGORIAN
BEGIN:VEVENT
UID:0c04a7bc-52a6-11f0-bed8-0e72d387990f
DTSTAMP:20260420T205037Z
SUMMARY:Baseball:  Varsity Game vs Auburn/HTRS  vs.  Raymond Central (Home)
LOCATION:Tushla Field - Auburn\, NE
URL;VALUE=URI:http://htrstitans.fallhaven.org/high-school/calendar/8356983/
 baseball-varsity-game-vs-auburn-htrs-vs-raymond-central-home
DTSTART:20260406T213000Z
DTEND:20260406T233000Z
END:VEVENT
END:VCALENDAR
