BEGIN:VCALENDAR
VERSION:2.0
PRODID:SchoolNow
CALSCALE:GREGORIAN
BEGIN:VEVENT
UID:0c56cb78-52a6-11f0-85ec-0e72d387990f
DTSTAMP:20260420T205037Z
SUMMARY:Baseball:  Varsity Game vs Falls City  vs.  Auburn/HTRS (Away)
LOCATION:Falls City
URL;VALUE=URI:http://htrstitans.fallhaven.org/high-school/calendar/8356986/
 baseball-varsity-game-vs-falls-city-vs-auburn-htrs-away
DTSTART:20260407T213000Z
DTEND:20260407T233000Z
END:VEVENT
END:VCALENDAR
