BEGIN:VCALENDAR
VERSION:2.0
PRODID:SchoolNow
CALSCALE:GREGORIAN
BEGIN:VEVENT
UID:0c56cf24-52a6-11f0-8f3e-0e72d387990f
DTSTAMP:20260420T205037Z
SUMMARY:Baseball:  Varsity Tournament vs Savannah  vs.  Auburn/HTRS (Away)
LOCATION:TBA
URL;VALUE=URI:http://htrstitans.fallhaven.org/high-school/calendar/8356989/
 baseball-varsity-tournament-vs-savannah-vs-auburn-htrs-away
DTSTART;VALUE=DATE:20260410
DTEND;VALUE=DATE:20260411
END:VEVENT
END:VCALENDAR
