BEGIN:VCALENDAR
VERSION:2.0
PRODID:SchoolNow
CALSCALE:GREGORIAN
BEGIN:VEVENT
UID:0c56d01e-52a6-11f0-8dd5-0e72d387990f
DTSTAMP:20260420T205037Z
SUMMARY:Baseball:  Varsity Tournament vs Savannah  vs.  Auburn/HTRS (Away)
LOCATION:TBA
URL;VALUE=URI:http://htrstitans.fallhaven.org/high-school/calendar/8356990/
 baseball-varsity-tournament-vs-savannah-vs-auburn-htrs-away
DTSTART;VALUE=DATE:20260411
DTEND;VALUE=DATE:20260412
END:VEVENT
END:VCALENDAR
