BEGIN:VCALENDAR
VERSION:2.0
PRODID:SchoolNow
CALSCALE:GREGORIAN
BEGIN:VEVENT
UID:0c56d3de-52a6-11f0-806a-0e72d387990f
DTSTAMP:20260420T205037Z
SUMMARY:Baseball:  Varsity Game vs Lincoln Christian  vs.  Auburn/HTRS (Awa
 y)
LOCATION:Lincoln Christian High School
URL;VALUE=URI:http://htrstitans.fallhaven.org/high-school/calendar/8356993/
 baseball-varsity-game-vs-lincoln-christian-vs-auburn-htrs-away
DTSTART:20260414T213000Z
DTEND:20260414T233000Z
END:VEVENT
END:VCALENDAR
