BEGIN:VCALENDAR
VERSION:2.0
PRODID:SchoolNow
CALSCALE:GREGORIAN
BEGIN:VEVENT
UID:0c56da8c-52a6-11f0-aa0b-0e72d387990f
DTSTAMP:20260420T205037Z
SUMMARY:Baseball:  Varsity Game vs Omaha Benson  vs.  Auburn/HTRS (Away)
LOCATION:Omaha Home for Boys
URL;VALUE=URI:http://htrstitans.fallhaven.org/high-school/calendar/8357000/
 baseball-varsity-game-vs-omaha-benson-vs-auburn-htrs-away
DTSTART:20260420T213000Z
DTEND:20260420T233000Z
END:VEVENT
END:VCALENDAR
