BEGIN:VCALENDAR
VERSION:2.0
PRODID:SchoolNow
CALSCALE:GREGORIAN
BEGIN:VEVENT
UID:0c56dc58-52a6-11f0-b0e6-0e72d387990f
DTSTAMP:20260420T205037Z
SUMMARY:Baseball:  Varsity Game vs Auburn/HTRS  vs.  Palmyra (Home)
LOCATION:Tushla Field - Auburn\, NE
URL;VALUE=URI:http://htrstitans.fallhaven.org/high-school/calendar/8357002/
 baseball-varsity-game-vs-auburn-htrs-vs-palmyra-home
DTSTART:20260421T213000Z
DTEND:20260421T233000Z
END:VEVENT
END:VCALENDAR
