BEGIN:VCALENDAR
VERSION:2.0
PRODID:SchoolNow
CALSCALE:GREGORIAN
BEGIN:VEVENT
UID:0c56dee2-52a6-11f0-a04e-0e72d387990f
DTSTAMP:20260420T205038Z
SUMMARY:Baseball:  Varsity Game vs Platteview  vs.  Auburn/HTRS (Away)
LOCATION:Buffalo Park - Springfield\, NE
URL;VALUE=URI:http://htrstitans.fallhaven.org/high-school/calendar/8357005/
 baseball-varsity-game-vs-platteview-vs-auburn-htrs-away
DTSTART:20260423T213000Z
DTEND:20260423T233000Z
END:VEVENT
END:VCALENDAR
