BEGIN:VCALENDAR
VERSION:2.0
PRODID:SchoolNow
CALSCALE:GREGORIAN
BEGIN:VEVENT
UID:0c56e248-52a6-11f0-903c-0e72d387990f
DTSTAMP:20260420T205038Z
SUMMARY:Baseball:  Varsity Game vs Fairbury  vs.  Auburn/HTRS (Away)
LOCATION:Fairbury City Park
URL;VALUE=URI:http://htrstitans.fallhaven.org/high-school/calendar/8357009/
 baseball-varsity-game-vs-fairbury-vs-auburn-htrs-away
DTSTART:20260427T213000Z
DTEND:20260427T233000Z
END:VEVENT
END:VCALENDAR
