BEGIN:VCALENDAR
VERSION:2.0
PRODID:SchoolNow
CALSCALE:GREGORIAN
BEGIN:VEVENT
UID:0c56e50e-52a6-11f0-a59a-0e72d387990f
DTSTAMP:20260420T205038Z
SUMMARY:Baseball:  Varsity Game vs Auburn/HTRS  vs.  Rock Port (Home)
LOCATION:Tushla Field - Auburn\, NE
URL;VALUE=URI:http://htrstitans.fallhaven.org/high-school/calendar/8357012/
 baseball-varsity-game-vs-auburn-htrs-vs-rock-port-home
DTSTART:20260428T213000Z
DTEND:20260428T233000Z
END:VEVENT
END:VCALENDAR
