BEGIN:VCALENDAR
VERSION:2.0
PRODID:SchoolNow
CALSCALE:GREGORIAN
BEGIN:VEVENT
UID:0c56e8ba-52a6-11f0-8c15-0e72d387990f
DTSTAMP:20260420T205038Z
SUMMARY:Baseball:  Varsity Game vs Auburn/HTRS  vs.  Lincoln Lutheran (Home
 )
LOCATION:Tushla Field - Auburn\, NE
URL;VALUE=URI:http://htrstitans.fallhaven.org/high-school/calendar/8357016/
 baseball-varsity-game-vs-auburn-htrs-vs-lincoln-lutheran-home
DTSTART:20260430T213000Z
DTEND:20260430T233000Z
END:VEVENT
END:VCALENDAR
