BEGIN:VCALENDAR
VERSION:2.0
PRODID:SchoolNow
CALSCALE:GREGORIAN
BEGIN:VEVENT
UID:0c56eaae-52a6-11f0-be6e-0e72d387990f
DTSTAMP:20260420T205038Z
SUMMARY:Track:  Var Pioneer Conference vs Lewiston  vs.  TBA (Away)
LOCATION:Lewiston High School
URL;VALUE=URI:http://htrstitans.fallhaven.org/high-school/calendar/8357018/
 track-var-pioneer-conference-vs-lewiston-vs-tba-away
DTSTART;VALUE=DATE:20260502
DTEND;VALUE=DATE:20260503
END:VEVENT
END:VCALENDAR
