BEGIN:VCALENDAR
VERSION:2.0
PRODID:SchoolNow
CALSCALE:GREGORIAN
BEGIN:VEVENT
UID:0c56ec66-52a6-11f0-98d0-0e72d387990f
DTSTAMP:20260420T205038Z
SUMMARY:Baseball:  Varsity Game vs Auburn/HTRS  vs.  Omaha Bryan (Home)
LOCATION:Tushla Field - Auburn\, NE
URL;VALUE=URI:http://htrstitans.fallhaven.org/high-school/calendar/8357020/
 baseball-varsity-game-vs-auburn-htrs-vs-omaha-bryan-home
DTSTART:20260502T170000Z
DTEND:20260502T190000Z
END:VEVENT
END:VCALENDAR
