BEGIN:VCALENDAR
VERSION:2.0
PRODID:SchoolNow
CALSCALE:GREGORIAN
BEGIN:VEVENT
UID:0c56ef54-52a6-11f0-b569-0e72d387990f
DTSTAMP:20260420T205038Z
SUMMARY:Baseball:  Varsity Districts vs TBA  vs.  TBA (Away)
LOCATION:TBA
URL;VALUE=URI:http://htrstitans.fallhaven.org/high-school/calendar/8357023/
 baseball-varsity-districts-vs-tba-vs-tba-away
DTSTART;VALUE=DATE:20260507
DTEND;VALUE=DATE:20260508
END:VEVENT
END:VCALENDAR
