BEGIN:VCALENDAR
VERSION:2.0
PRODID:SchoolNow
CALSCALE:GREGORIAN
BEGIN:VEVENT
UID:e244ccee-55d5-11f0-b5c5-0a58a9feac02
DTSTAMP:20260420T205037Z
SUMMARY:Pioneer Conference Quiz Bowl
LOCATION:Humboldt Table Rock Steinauer School
URL;VALUE=URI:http://htrstitans.fallhaven.org/high-school/calendar/8370503/
 pioneer-conference-quiz-bowl
DTSTART:20260318T171000Z
DTEND:20260318T230000Z
END:VEVENT
END:VCALENDAR
