BEGIN:VCALENDAR
VERSION:2.0
PRODID:SchoolNow
CALSCALE:GREGORIAN
BEGIN:VEVENT
UID:e244cf96-55d5-11f0-943c-0a58a9feac02
DTSTAMP:20260420T205037Z
SUMMARY:No School
LOCATION:Humboldt Table Rock Steinauer School
URL;VALUE=URI:http://htrstitans.fallhaven.org/high-school/calendar/8370505/
 no-school
DTSTART;VALUE=DATE:20260320
DTEND;VALUE=DATE:20260321
END:VEVENT
END:VCALENDAR
