BEGIN:VCALENDAR
VERSION:2.0
PRODID:SchoolNow
CALSCALE:GREGORIAN
BEGIN:VEVENT
UID:b704b2f0-5905-11f0-aa82-0a58a9feac02
DTSTAMP:20260420T205036Z
SUMMARY:FFA Chapter Meeting
URL;VALUE=URI:http://htrstitans.fallhaven.org/high-school/calendar/8384603/
 ffa-chapter-meeting
DTSTART;VALUE=DATE:20260109
DTEND;VALUE=DATE:20260110
END:VEVENT
END:VCALENDAR
