BEGIN:VCALENDAR
VERSION:2.0
PRODID:SchoolNow
CALSCALE:GREGORIAN
BEGIN:VEVENT
UID:b704b9a8-5905-11f0-bbc8-0a58a9feac02
DTSTAMP:20260420T205037Z
SUMMARY:FFA Chapter Meeting
URL;VALUE=URI:http://htrstitans.fallhaven.org/high-school/calendar/8384604/
 ffa-chapter-meeting
DTSTART;VALUE=DATE:20260206
DTEND;VALUE=DATE:20260207
END:VEVENT
END:VCALENDAR
