BEGIN:VCALENDAR
VERSION:2.0
PRODID:SchoolNow
CALSCALE:GREGORIAN
BEGIN:VEVENT
UID:b70fa5ca-5905-11f0-8226-0a58a9feac02
DTSTAMP:20260420T205037Z
SUMMARY:FFA Chapter Meeting
URL;VALUE=URI:http://htrstitans.fallhaven.org/high-school/calendar/8384606/
 ffa-chapter-meeting
DTSTART;VALUE=DATE:20260410
DTEND;VALUE=DATE:20260411
END:VEVENT
END:VCALENDAR
