BEGIN:VCALENDAR
VERSION:2.0
PRODID:SchoolNow
CALSCALE:GREGORIAN
BEGIN:VEVENT
UID:b30daaf2-5938-11f0-9184-027c414992fd
DTSTAMP:20260420T205037Z
SUMMARY:FFA State Degree Interviews
LOCATION:Johnson-Brock High School
URL;VALUE=URI:http://htrstitans.fallhaven.org/high-school/calendar/8385299/
 ffa-state-degree-interviews
DTSTART;VALUE=DATE:20260128
DTEND;VALUE=DATE:20260129
END:VEVENT
END:VCALENDAR
