BEGIN:VCALENDAR
VERSION:2.0
PRODID:SchoolNow
CALSCALE:GREGORIAN
BEGIN:VEVENT
UID:b30daf7a-5938-11f0-bb3b-027c414992fd
DTSTAMP:20260420T205037Z
SUMMARY:FFA CDEÃ¢â¬â¢s
LOCATION:Lincoln
URL;VALUE=URI:http://htrstitans.fallhaven.org/high-school/calendar/8385300/
 ffa-cdea-a-a-s
DTSTART;VALUE=DATE:20260216
DTEND;VALUE=DATE:20260217
END:VEVENT
END:VCALENDAR
