BEGIN:VCALENDAR
VERSION:2.0
PRODID:SchoolNow
CALSCALE:GREGORIAN
BEGIN:VEVENT
UID:b316acd8-5938-11f0-9d50-027c414992fd
DTSTAMP:20260420T205037Z
SUMMARY:State FFA
LOCATION:Lincoln
URL;VALUE=URI:http://htrstitans.fallhaven.org/high-school/calendar/8385303/
 state-ffa
DTSTART;VALUE=DATE:20260326
DTEND;VALUE=DATE:20260327
END:VEVENT
END:VCALENDAR
