BEGIN:VCALENDAR
VERSION:2.0
PRODID:SchoolNow
CALSCALE:GREGORIAN
BEGIN:VEVENT
UID:74499ce4-5e66-11f0-97d8-0a58a9feac02
DTSTAMP:20260420T205037Z
SUMMARY:K-Round Up
URL;VALUE=URI:http://htrstitans.fallhaven.org/high-school/calendar/8405865/
 k-round-up
DTSTART;VALUE=DATE:20260330
DTEND;VALUE=DATE:20260331
END:VEVENT
END:VCALENDAR
