BEGIN:VCALENDAR
VERSION:2.0
PRODID:SchoolNow
CALSCALE:GREGORIAN
BEGIN:VEVENT
UID:fa0fd5b0-675c-11f0-b17f-0a58a9feac02
DTSTAMP:20260420T205036Z
SUMMARY:8th Grade All State Band
LOCATION:Kearney
URL;VALUE=URI:http://htrstitans.fallhaven.org/high-school/calendar/8438786/
 8th-grade-all-state-band
DTSTART;VALUE=DATE:20260110
DTEND;VALUE=DATE:20260111
END:VEVENT
END:VCALENDAR
