BEGIN:VCALENDAR
VERSION:2.0
PRODID:SchoolNow
CALSCALE:GREGORIAN
BEGIN:VEVENT
UID:fa17759a-675c-11f0-afa0-0a58a9feac02
DTSTAMP:20260420T205037Z
SUMMARY:Meridian Honor Band/Chorus
LOCATION:Meridian
URL;VALUE=URI:http://htrstitans.fallhaven.org/high-school/calendar/8438787/
 meridian-honor-band-chorus
DTSTART;VALUE=DATE:20260327
DTEND;VALUE=DATE:20260328
END:VEVENT
END:VCALENDAR
