BEGIN:VCALENDAR
VERSION:2.0
PRODID:SchoolNow
CALSCALE:GREGORIAN
BEGIN:VEVENT
UID:fa17796e-675c-11f0-8794-0a58a9feac02
DTSTAMP:20260420T205037Z
SUMMARY:Nebraska Wesleyan MS Honor Band
LOCATION:Wesleyan
URL;VALUE=URI:http://htrstitans.fallhaven.org/high-school/calendar/8438788/
 nebraska-wesleyan-ms-honor-band
DTSTART;VALUE=DATE:20260321
DTEND;VALUE=DATE:20260322
END:VEVENT
END:VCALENDAR
