BEGIN:VCALENDAR
VERSION:2.0
PRODID:SchoolNow
CALSCALE:GREGORIAN
BEGIN:VEVENT
UID:fa177c0c-675c-11f0-b007-0a58a9feac02
DTSTAMP:20260420T205037Z
SUMMARY:York Middle School Honor Band
LOCATION:Meridian
URL;VALUE=URI:http://htrstitans.fallhaven.org/high-school/calendar/8438789/
 york-middle-school-honor-band
DTSTART;VALUE=DATE:20260328
DTEND;VALUE=DATE:20260329
END:VEVENT
END:VCALENDAR
