BEGIN:VCALENDAR
VERSION:2.0
PRODID:SchoolNow
CALSCALE:GREGORIAN
BEGIN:VEVENT
UID:fa20c7e4-675c-11f0-b62a-0a58a9feac02
DTSTAMP:20260420T205038Z
SUMMARY:Music Awards
LOCATION:HTRS - Main Gym
URL;VALUE=URI:http://htrstitans.fallhaven.org/high-school/calendar/8438790/
 music-awards
DTSTART:20260504T230000Z
DTEND:20260505T000000Z
END:VEVENT
END:VCALENDAR
