BEGIN:VCALENDAR
VERSION:2.0
PRODID:SchoolNow
CALSCALE:GREGORIAN
BEGIN:VEVENT
UID:c2506ac8-6c24-11f0-96bd-0a58a9feac02
DTSTAMP:20260420T205037Z
SUMMARY:Wrestling:  Boys JH Invitational vs Multiple Schools vs. Auburn (Aw
 ay)
LOCATION:Auburn High School
URL;VALUE=URI:http://htrstitans.fallhaven.org/high-school/calendar/8454152/
 wrestling-boys-jh-invitational-vs-multiple-schools-vs-auburn-away
DTSTART:20260305T223000Z
DTEND:20260306T023000Z
END:VEVENT
END:VCALENDAR
