BEGIN:VCALENDAR
VERSION:2.0
PRODID:SchoolNow
CALSCALE:GREGORIAN
BEGIN:VEVENT
UID:a9c19a18-6e22-11f0-b046-0a58a9feac02
DTSTAMP:20260420T205036Z
SUMMARY:No School
URL;VALUE=URI:http://htrstitans.fallhaven.org/high-school/calendar/8461014/
 no-school
DTSTART;VALUE=DATE:20251222
DTEND;VALUE=DATE:20251223
END:VEVENT
END:VCALENDAR
